BEGIN:VCALENDAR
VERSION:2.0
PRODID:-//ChamberMaster//Event Calendar 2.0//EN
METHOD:PUBLISH
X-PUBLISHED-TTL:P3D
REFRESH-INTERVAL:P3D
CALSCALE:GREGORIAN
BEGIN:VEVENT
DTSTART:20231203T133000Z
DTEND:20231203T163000Z
X-MICROSOFT-CDO-ALLDAYEVENT:FALSE
SUMMARY:Hartford Hometown Christmas Breakfast
DESCRIPTION:Hometown Christmas Breakfast will be held on Sunday\, December 3rd from 7:30 a.m. to 10:30 a.m. at the Hartford Area Fire & Rescue located at 305 South Street. This event kicks off the Hometown Christmas festivities and is a FREE WILL DONATION offering. In 2011\, Hartford started a new holiday tradition with Hometown Christmas. The theme for Hometown Christmas 2023 will be "Christmas in Toyland".  Hometown Christmas has something for all ages.\n\n\n\nPlease visit: www.hartfordhtc.com for more information.
X-ALT-DESC;FMTTYPE=text/html:<span style="font-family: Arial\, &quot\;Helvetica Neue&quot\;\, Helvetica\, sans-serif\; font-size: 16px\;">Hometown Christmas Breakfast will be held on Sunday\, December 3rd from 7:30 a.m. to 10:30 a.m. at the Hartford Area Fire &amp\; Rescue located at 305 South Street. This event kicks off the Hometown Christmas festivities and is a FREE WILL DONATION offering. In 2011\, Hartford started a new holiday tradition with Hometown Christmas.&nbsp\;</span><span style="box-sizing: border-box\; font-family: Arial\, &quot\;Helvetica Neue&quot\;\, Helvetica\, sans-serif\; font-size: 16px\;">The theme for Hometown Christmas 2023 will be &quot\;Christmas in Toyland&quot\;.&nbsp\; </span><span style="font-family: Arial\, &quot\;Helvetica Neue&quot\;\, Helvetica\, sans-serif\; font-size: 16px\;">Hometown Christmas has something for all ages.<br />\n<br />\nPlease visit:&nbsp\;<a href="https://www.hartfordhtc.com/">www.hartfordhtc.com</a>&nbsp\;for more information.</span>
LOCATION:Hartford\, SD
UID:e.2703.4590
SEQUENCE:3
DTSTAMP:20260423T025138Z
URL:https://business.hartfordsdchamber.org/events/details/hartford-hometown-christmas-breakfast-4590
END:VEVENT

END:VCALENDAR
