BEGIN:VCALENDAR
VERSION:2.0
PRODID:-//ChamberMaster//Event Calendar 2.0//EN
METHOD:PUBLISH
X-PUBLISHED-TTL:P3D
REFRESH-INTERVAL:P3D
CALSCALE:GREGORIAN
BEGIN:VEVENT
DTSTART:20241201T140000Z
DTEND:20241201T170000Z
X-MICROSOFT-CDO-ALLDAYEVENT:FALSE
SUMMARY:Hartford Hometown Christmas Breakfast - 2024
DESCRIPTION:Hometown Christmas Breakfast will be held on Sunday\, December 1st from 8:00 a.m. to 11:00 a.m. at the Hartford Area Fire & Rescue located at 305 South Street. This event kicks off the Hometown Christmas festivities and is a FREE WILL DONATION offering. In 2011\, Hartford started a new holiday tradition with Hometown Christmas. Hometown Christmas has something for all ages.\n\n\n\nPlease visit: www.hartfordhtc.com for more information.
X-ALT-DESC;FMTTYPE=text/html:<span style="font-family: Arial\, &quot\;Helvetica Neue&quot\;\, Helvetica\, sans-serif\; font-size: 16px\;">Hometown Christmas Breakfast will be held on Sunday\, December 1st from 8:00 a.m. to 11:00 a.m. at the Hartford Area Fire &amp\; Rescue located at 305 South Street. This event kicks off the Hometown Christmas festivities and is a FREE WILL DONATION offering. In 2011\, Hartford started a new holiday tradition with Hometown Christmas.&nbsp\;</span><span style="font-family: Arial\, &quot\;Helvetica Neue&quot\;\, Helvetica\, sans-serif\; font-size: 16px\;">Hometown Christmas has something for all ages.<br />\n<br />\nPlease visit:&nbsp\;<a href="https://www.hartfordhtc.com/">www.hartfordhtc.com</a>&nbsp\;for more information.</span>
LOCATION:Hartford\, SD
UID:e.2703.4800
SEQUENCE:3
DTSTAMP:20260419T153806Z
URL:https://business.hartfordsdchamber.org/events/details/hartford-hometown-christmas-breakfast-2024-4800
END:VEVENT

END:VCALENDAR
